BEGIN:VCALENDAR
VERSION:2.0
PRODID:-//84.19.162.237//NONSGML kigkonsult.se iCalcreator 2.20//
CALSCALE:GREGORIAN
METHOD:PUBLISH
X-WR-TIMEZONE:Europe/Berlin
BEGIN:VEVENT
UID:event442@FBV´79 e.V.
DTSTAMP:20260421T085004Z
CATEGORIES:FBV Landesliga
DESCRIPTION:3 Spieltag LL BW  1\, 2\, 3 und 4 \nKategorie: FBV Landesliga\n
 ICS-Link: https://www.fbv1979.de/index.php?option=com_jem&view=event&id=44
 2:landesligastart-sa\n
DTSTART;VALUE=DATE:20260509
DTEND;VALUE=DATE:20260510
LOCATION:wird im Ligaplan bekannt gegeben\,unbekannt\,00000 siehe Ligaplan
SUMMARY:3 Spieltag LL BW  1\, 2\, 3 und 4 
URL:https://www.fbv1979.de/index.php?option=com_jem&view=event&id=442:lande
 sligastart-sa
END:VEVENT
END:VCALENDAR
